BEGIN:VCALENDAR
VERSION:2.0
PRODID:-//Villa Rotenburg e. V. - ECPv6.15.20//NONSGML v1.0//EN
CALSCALE:GREGORIAN
METHOD:PUBLISH
X-ORIGINAL-URL:https://www.villa-rotenburg.de
X-WR-CALDESC:Veranstaltungen für Villa Rotenburg e. V.
REFRESH-INTERVAL;VALUE=DURATION:PT1H
X-Robots-Tag:noindex
X-PUBLISHED-TTL:PT1H
BEGIN:VTIMEZONE
TZID:Europe/Berlin
BEGIN:DAYLIGHT
TZOFFSETFROM:+0100
TZOFFSETTO:+0200
TZNAME:CEST
DTSTART:20250330T010000
END:DAYLIGHT
BEGIN:STANDARD
TZOFFSETFROM:+0200
TZOFFSETTO:+0100
TZNAME:CET
DTSTART:20251026T010000
END:STANDARD
BEGIN:DAYLIGHT
TZOFFSETFROM:+0100
TZOFFSETTO:+0200
TZNAME:CEST
DTSTART:20260329T010000
END:DAYLIGHT
BEGIN:STANDARD
TZOFFSETFROM:+0200
TZOFFSETTO:+0100
TZNAME:CET
DTSTART:20261025T010000
END:STANDARD
BEGIN:DAYLIGHT
TZOFFSETFROM:+0100
TZOFFSETTO:+0200
TZNAME:CEST
DTSTART:20270328T010000
END:DAYLIGHT
BEGIN:STANDARD
TZOFFSETFROM:+0200
TZOFFSETTO:+0100
TZNAME:CET
DTSTART:20271031T010000
END:STANDARD
END:VTIMEZONE
BEGIN:VEVENT
DTSTART;TZID=Europe/Berlin:20260516T180000
DTEND;TZID=Europe/Berlin:20260516T180000
DTSTAMP:20260423T005425
CREATED:20260421T175414Z
LAST-MODIFIED:20260421T175414Z
UID:3572-1778954400-1778954400@www.villa-rotenburg.de
SUMMARY:Villaversary - 20 Jahre Konzerte!
DESCRIPTION:Am Samstag\, dem 16.05.26 öffnet die Villa Rotenburg die Türen des Anglerheims in Rotenburg für ein Jubiläum der etwas anderen Art! \nDas Villaversary! \nWas gibt‘s zu feiern? 20 Jahre Villa? Nein\, aber 20 Jahre Villa-Konzerte! \nIm Mai 2006 war der Band Boom Boom Kid aus Argentinien ein Auftritt ausgefallen. Und kurzerhand haben sie als erste Band für die Villa gespielt\, lange bevor der Villa Rotenburg e.V. überhaupt gegründet wurde. \n  \nLineup \nBelow Zero aus Bremen \nBelow Zero ist ein energiegeladenes Alternative-Garage-Rock-Duo. Mit nur Gitarre\, Drums und Gesang erzeugen die beiden Musiker einen massiven Sound. Ihre Songs verbinden druckvolle Riffs\, treibende Rhythmen und eingängige Hooks mit einer rohen\, direkten Attitüde. Besonders live überzeugt Below Zero durch eine intensive Bühnenpräsenz und geile Shows! \n  \nSeventh Floor aus Dresden \nSeventh Floor ist eine Indie-Punk-Band\, die emotionale Geschichten in ehrliche\, mitreißende Songs verpackt. Ihr Sound verbindet Pop-Punk mit modernen Indie-Elementen\, treibenden Instrumentals und eingängigen Melodien. Mit einem ihrem Songwriting schaffen sie eine intensive Atmosphäre\, die Zuhörer genau dort abholt\, wo sie gerade im Leben stehen – zwischen Herzschmerz\, Selbstfindung und Aufbruch. \n  \nKlirrfaktor aus Bremen \nKlirrfaktor ist ein DJ-Projekt. Mit einem feinen Gespür für düstere Klangwelten und tanzbare Melancholie bewegt er sich zwischen Post-Punk\, Wave und artverwandten Sounds. Seine Sets verbinden treibende Basslines\, kalte Synths und rohe Attitüde zu einem atmosphärischen Mix\, der zum Tanzen einlädt – mal hypnotisch\, mal kantig\, aber immer mit Charakter. \n  \nMad Monks aus Bremen \nMad Monks sind eine energiegeladene Ska-Punk-Band\, die seit 2004 mit einer explosiven Mischung aus Offbeat\, Punkrock und Bläserpower die Bühnen unsicher macht. Ihr Sound vereint Einflüsse aus Ska\, Punk\, Rock\, Reggae und sogar Swing zu einem tanzbaren Sound. Mit Rhythmen\, eingängigen Hooks und einer ordentlichen Portion Humor stehen Mad Monks für pure Live-Energie und DIY-Attitüde – laut\, bunt und immer mitreißend geil. \n  \nBrückenschäden aus Rotenburg \nDreckiger Folkpunk ohne Waschbrettbauch aber mit Waschbrett und Wandergitarre. Viel Herz\, viel Engagement und viel Stimme! Läuft auch unter der Bezeichnung „Hausband der Villa“ – Liebe geht raus!
URL:https://www.villa-rotenburg.de/event/villaversary-20-jahre-konzerte/
LOCATION:Anglerheim * Bremer Strasse 41 * Rotenburg\, Bremer Strasse 41\, Rotenburg
CATEGORIES:Konzert
ATTACH;FMTTYPE=image/jpeg:https://www.villa-rotenburg.de/wp-content/uploads/2026/04/20-Jahre-Villaversary-Final-web-ohne-Kohle-scaled.jpg
END:VEVENT
END:VCALENDAR